BEGIN:VCALENDAR
VERSION:2.0
PRODID:-//AudioTheme 1.6.2
BEGIN:VEVENT
UID:https://gregbryce.com.au/?post_type=audiotheme_gig&#038;p=3315
URL:https://gregbryce.com.au/shows/gb-duo-with-jed-browne-at-beauford-hotel/
DTSTART;TZID=GMT:20250711T093000
SUMMARY:GB Duo with Jed Browne at Beauford Hotel
DESCRIPTION:Duo with Jed Browne at Beauford Hotel\, Mayfield 7:30-10:30pm
LOCATION:Beauford Hotel\, Mayfield
END:VEVENT
END:VCALENDAR