BEGIN:VCALENDAR
VERSION:2.0
PRODID:-//AudioTheme 1.6.2
BEGIN:VEVENT
UID:https://gregbryce.com.au/?post_type=audiotheme_gig&#038;p=3313
URL:https://gregbryce.com.au/shows/gb-duo-with-georgia-hazzard-at-george-tavern/
DTSTART;TZID=GMT:20250705T113000
SUMMARY:GB Duo with Georgia Hazzard at George Tavern
DESCRIPTION:Duo with Georgia Hazzard on bass at George Tavern 9:30pm-12:30am
LOCATION:George Tavern\, East Maitland
END:VEVENT
END:VCALENDAR