BEGIN:VCALENDAR
VERSION:2.0
PRODID:-//AudioTheme 1.6.2
BEGIN:VEVENT
UID:https://gregbryce.com.au/?post_type=audiotheme_gig&#038;p=3316
URL:https://gregbryce.com.au/shows/gb-duo-at-vincent-st-bar-kitchen/
DTSTART;TZID=GMT:20250712T100000
SUMMARY:GB Duo at Vincent St Bar & Kitchen
DESCRIPTION:GB Duo with Darren Brollo on drums at Vincent St Kitchen & Bar 8-11pm
LOCATION:Vincent Street Kitchen + Bar\, Cessnock
END:VEVENT
END:VCALENDAR