BEGIN:VCALENDAR
VERSION:2.0
PRODID:-//AudioTheme 1.6.2
BEGIN:VEVENT
UID:https://gregbryce.com.au/?post_type=audiotheme_gig&#038;p=2522
URL:https://gregbryce.com.au/shows/gb-duo-at-customs-house/
DTSTART;TZID=GMT:20210725T050000
SUMMARY:GB Duo at Customs House
DESCRIPTION:Duo with Georgia Hazzard on bass at Customs House from 3-6pm
LOCATION:Customs House\, Newcastle
END:VEVENT
END:VCALENDAR