BEGIN:VCALENDAR
VERSION:2.0
PRODID:-//AudioTheme 1.6.2
BEGIN:VEVENT
UID:https://gregbryce.com.au/?post_type=audiotheme_gig&#038;p=2529
URL:https://gregbryce.com.au/shows/dv8-with-choirboys-at-qwh/
DTSTART;TZID=GMT:20211211T070000
SUMMARY:DV8 with Choirboys at QWH
DESCRIPTION:DV8 and Choirboys plus other bands at Queens Wharf Hotel
LOCATION:Queens Wharf Hotel
END:VEVENT
END:VCALENDAR