BEGIN:VCALENDAR
VERSION:2.0
PRODID:-//AudioTheme 1.6.2
BEGIN:VEVENT
UID:https://gregbryce.com.au/?post_type=audiotheme_gig&#038;p=1512
URL:https://gregbryce.com.au/shows/dv8-nye-gig/
DTSTART;TZID=GMT:20161231T103000
SUMMARY:DV8 NYE Gig
DESCRIPTION:DV8 will ROCK in NYE at Cardiff RSL this year 9.30pm until late
LOCATION:Cardiff RSL Club
END:VEVENT
END:VCALENDAR