BEGIN:VCALENDAR
VERSION:2.0
PRODID:-//AudioTheme 1.6.2
BEGIN:VEVENT
UID:https://www.gregbryce.com.au/?post_type=audiotheme_gig&#038;p=2376
URL:https://gregbryce.com.au/shows/dv8-nye-at-wallsend-diggers-mezz-bar/
DTSTART;TZID=GMT:20201231T100000
SUMMARY:DV8 NYE at Wallsend Diggers, Mezz Bar
DESCRIPTION:DV8 rock in the New Year at the Mezz Bar from 9pm. Contact Wallsend Diggers Club for details.
LOCATION:Wallsend Diggers Club-Mezz Bar
END:VEVENT
END:VCALENDAR