BEGIN:VCALENDAR
VERSION:2.0
PRODID:-//AudioTheme 1.6.2
BEGIN:VEVENT
UID:https://gregbryce.com.au/?post_type=audiotheme_gig&#038;p=1468
URL:https://gregbryce.com.au/shows/dv8-gig-29/
DTSTART;TZID=GMT:20161101T033000
SUMMARY:DV8 gig
DESCRIPTION:DV8 at Pedens on Melbourne Cup day...times to be announced
LOCATION:Pedens Hotel\, Cessnock
END:VEVENT
END:VCALENDAR