BEGIN:VCALENDAR
VERSION:2.0
PRODID:-//AudioTheme 1.6.2
BEGIN:VEVENT
UID:https://gregbryce.com.au/?post_type=audiotheme_gig&#038;p=1465
URL:https://gregbryce.com.au/shows/dv8-gig-28/
DTSTART;TZID=GMT:20161029T090000
SUMMARY:DV8 gig
DESCRIPTION:DV8 gig...Fantastic new room! Great PA...upper and lower levels and outside section...possible launch for DV8's new album
LOCATION:The Mezz Bar\, Wallsend Diggers
END:VEVENT
END:VCALENDAR