BEGIN:VCALENDAR
VERSION:2.0
PRODID:-//AudioTheme 1.6.2
BEGIN:VEVENT
UID:https://gregbryce.com.au/?post_type=audiotheme_gig&#038;p=1380
URL:https://gregbryce.com.au/shows/dv8-gig-18/
DTSTART;TZID=GMT:20160702T093000
SUMMARY:DV8 gig
DESCRIPTION:A new venue for us and an early gig...with the Gunyah out of action for the time being this could be fun...early 7.30-10.30pm
LOCATION:Marks Point Sports Club
END:VEVENT
END:VCALENDAR