BEGIN:VCALENDAR
VERSION:2.0
PRODID:-//AudioTheme 1.6.2
BEGIN:VEVENT
UID:https://gregbryce.com.au/?post_type=audiotheme_gig&#038;p=2995
URL:https://gregbryce.com.au/shows/dv8-at-the-orana/
DTSTART;TZID=GMT:20240310T040000
SUMMARY:DV8 at the Orana
DESCRIPTION:DV8 at the Orana Sunday afternoon
LOCATION:The Orana Hotel
END:VEVENT
END:VCALENDAR