BEGIN:VCALENDAR
VERSION:2.0
PRODID:-//AudioTheme 1.6.2
BEGIN:VEVENT
UID:https://gregbryce.com.au/?post_type=audiotheme_gig&#038;p=3312
URL:https://gregbryce.com.au/shows/dv8-at-the-mezz-bar-3/
DTSTART;TZID=GMT:20250704T103000
SUMMARY:DV8 at the Mezz Bar
DESCRIPTION:DV8 at Wallsend Diggers Mezz Bar 8:30pm-12am
LOCATION:Wallsend Diggers Club-Mezz Bar
END:VEVENT
END:VCALENDAR