BEGIN:VCALENDAR
VERSION:2.0
PRODID:-//AudioTheme 1.6.2
BEGIN:VEVENT
UID:https://gregbryce.com.au/?post_type=audiotheme_gig&#038;p=2932
URL:https://gregbryce.com.au/shows/dv8-at-rogue-scholar/
DTSTART;TZID=GMT:20231006T100000
SUMMARY:DV8 at Rogue Scholar
DESCRIPTION:DV8 at Rogue Scholar from 9pm-12am
LOCATION:Rogue Scholar\, Newcastle West
END:VEVENT
END:VCALENDAR