BEGIN:VCALENDAR
VERSION:2.0
PRODID:-//AudioTheme 1.6.2
BEGIN:VEVENT
UID:https://gregbryce.com.au/?post_type=audiotheme_gig&#038;p=1833
URL:https://gregbryce.com.au/shows/dv8-at-pelican-rsl-2/
DTSTART;TZID=GMT:20180303T090000
SUMMARY:DV8 at Pelican RSL
DESCRIPTION:DV8 rock the Pelican RSL from 8-11pm
LOCATION:Pelican RSL Club
END:VEVENT
END:VCALENDAR