BEGIN:VCALENDAR
VERSION:2.0
PRODID:-//AudioTheme 1.6.2
BEGIN:VEVENT
UID:https://gregbryce.com.au/?post_type=audiotheme_gig&#038;p=2560
URL:https://gregbryce.com.au/shows/dv8-at-jewells-tavern/
DTSTART;TZID=GMT:20220325T093000
SUMMARY:DV8 at Jewells Tavern
DESCRIPTION:DV8 at Jewells Tavern. Show starts at 8.30pm
LOCATION:Jewells Tavern
END:VEVENT
END:VCALENDAR