BEGIN:VCALENDAR
VERSION:2.0
PRODID:-//AudioTheme 1.6.2
BEGIN:VEVENT
UID:https://www.gregbryce.com.au/?post_type=audiotheme_gig&#038;p=2402
URL:https://gregbryce.com.au/shows/dv8-at-club-macquarie-on-the-green/
DTSTART;TZID=GMT:20210123T063000
SUMMARY:DV8 at Club Macquarie on the Green
DESCRIPTION:DV8 at Club Macquarie on the Green from 5.30-8.30pm
LOCATION:Club Macquarie\, Argenton
END:VEVENT
END:VCALENDAR