BEGIN:VCALENDAR
VERSION:2.0
PRODID:-//AudioTheme 1.6.2
BEGIN:VEVENT
UID:https://gregbryce.com.au/?post_type=audiotheme_gig&#038;p=2691
URL:https://gregbryce.com.au/shows/duo-with-ric-mccann-on-drums-at-huntlee-tavern/
DTSTART;TZID=GMT:20221101T050000
SUMMARY:Duo with Ric McCann on drums at Huntlee Tavern
DESCRIPTION:Duo with Ric McCann on drums for Melbourne Cup 4-7pm
LOCATION:Huntlee Tavern
END:VEVENT
END:VCALENDAR