BEGIN:VCALENDAR
VERSION:2.0
PRODID:-//AudioTheme 1.6.2
BEGIN:VEVENT
UID:https://gregbryce.com.au/?post_type=audiotheme_gig&#038;p=1958
URL:https://gregbryce.com.au/shows/duo-with-len-samperi-at-duke-of-wellington-hotel/
DTSTART;TZID=GMT:20180929T103000
SUMMARY:Duo with Len Samperi at Duke of Wellington Hotel
DESCRIPTION:Duo with Len Samperi on bass at Duke of Wellington Hotel\, New Lambton from 8.30-11.30pm
LOCATION:Duke of Wellington Hotel\, New Lambton
END:VEVENT
END:VCALENDAR