BEGIN:VCALENDAR
VERSION:2.0
PRODID:-//AudioTheme 1.6.2
BEGIN:VEVENT
UID:https://gregbryce.com.au/?post_type=audiotheme_gig&#038;p=2739
URL:https://gregbryce.com.au/shows/duo-with-jed-browne-on-bass-at-harrigans-pokolbin/
DTSTART;TZID=GMT:20230519T100000
SUMMARY:Duo with Jed Browne on bass at Harrigans, Pokolbin
DESCRIPTION:Duo with Jed Browne at Harrigans\, Pokolbin 8-11pm
LOCATION:Harrigans Irish Pub\, Pokolbin
END:VEVENT
END:VCALENDAR