BEGIN:VCALENDAR
VERSION:2.0
PRODID:-//AudioTheme 1.6.2
BEGIN:VEVENT
UID:https://gregbryce.com.au/?post_type=audiotheme_gig&#038;p=3022
URL:https://gregbryce.com.au/shows/duo-with-jed-browne-at-west-workers/
DTSTART;TZID=GMT:20240405T090000
SUMMARY:Duo with Jed Browne at West Workers
DESCRIPTION:Duo with Jed Browne on bass at West Workers 8-11pm
LOCATION:West Wallsend Workers Club
END:VEVENT
END:VCALENDAR