BEGIN:VCALENDAR
VERSION:2.0
PRODID:-//AudioTheme 1.6.2
BEGIN:VEVENT
UID:https://gregbryce.com.au/?post_type=audiotheme_gig&#038;p=3325
URL:https://gregbryce.com.au/shows/duo-with-jed-browne-at-the-kent-2/
DTSTART;TZID=GMT:20250803T103000
SUMMARY:Duo with Jed Browne at the Kent
DESCRIPTION:Duo with Jed Browne at The Kent 8:30-11:30pm
LOCATION:Kent Hotel\, Hamilton
END:VEVENT
END:VCALENDAR