BEGIN:VCALENDAR
VERSION:2.0
PRODID:-//AudioTheme 1.6.2
BEGIN:VEVENT
UID:https://gregbryce.com.au/?post_type=audiotheme_gig&#038;p=2931
URL:https://gregbryce.com.au/shows/duo-with-jed-browne-at-club-macquarie/
DTSTART;TZID=GMT:20230930T100000
SUMMARY:Duo with Jed Browne at Club Macquarie
DESCRIPTION:Duo with Jed Browne at Club Macquarie\, Argenton 8-11pm
LOCATION:Club Macquarie\, Argenton
END:VEVENT
END:VCALENDAR