BEGIN:VCALENDAR
VERSION:2.0
PRODID:-//AudioTheme 1.6.2
BEGIN:VEVENT
UID:https://gregbryce.com.au/?post_type=audiotheme_gig&#038;p=3329
URL:https://gregbryce.com.au/shows/duo-with-jed-browne-at-club-lambton-2/
DTSTART;TZID=GMT:20250810T040000
SUMMARY:Duo with Jed Browne at Club Lambton
DESCRIPTION:Duo with Jed Browne at Club Lambton 2-5pm
LOCATION:Club Lambton
END:VEVENT
END:VCALENDAR