BEGIN:VCALENDAR
VERSION:2.0
PRODID:-//AudioTheme 1.6.2
BEGIN:VEVENT
UID:https://gregbryce.com.au/?post_type=audiotheme_gig&#038;p=2534
URL:https://gregbryce.com.au/shows/duo-with-georgia-on-bass-for-nye-at-duke-of-wellington/
DTSTART;TZID=GMT:20211231T100000
SUMMARY:Duo with Georgia on bass for NYE at Duke of Wellington
DESCRIPTION:GB Duo with Georgia Hazzard on bass-NYE at Duke of Wellington until after midnight
LOCATION:Duke of Wellington Hotel\, New Lambton
END:VEVENT
END:VCALENDAR