BEGIN:VCALENDAR
VERSION:2.0
PRODID:-//AudioTheme 1.6.2
BEGIN:VEVENT
UID:https://www.gregbryce.com.au/?post_type=audiotheme_gig&#038;p=2401
URL:https://gregbryce.com.au/shows/duo-with-georgia-hazzard-on-bass-at-queens-wharf-hotel/
DTSTART;TZID=GMT:20210122T091500
SUMMARY:Duo with Georgia Hazzard on bass at Queens Wharf Hotel
DESCRIPTION:Duo with Georgia Hazzard on bass at Queens Wharf Hotel...from 8.15-10.55pm
LOCATION:Queens Wharf Hotel
END:VEVENT
END:VCALENDAR