BEGIN:VCALENDAR
VERSION:2.0
PRODID:-//AudioTheme 1.6.2
BEGIN:VEVENT
UID:https://www.gregbryce.com.au/?post_type=audiotheme_gig&#038;p=2404
URL:https://gregbryce.com.au/shows/duo-with-georgia-hazzard-on-bass-at-east-maitland-bowling-club/
DTSTART;TZID=GMT:20210129T090000
SUMMARY:Duo with Georgia Hazzard on bass at East Maitland Bowling Club
DESCRIPTION:Duo with Georgia Hazzard at East Maitland Bowling Club from 8-11.30pm
LOCATION:East Maitland Bowling Club
END:VEVENT
END:VCALENDAR