BEGIN:VCALENDAR
VERSION:2.0
PRODID:-//AudioTheme 1.6.2
BEGIN:VEVENT
UID:https://gregbryce.com.au/?post_type=audiotheme_gig&#038;p=2743
URL:https://gregbryce.com.au/shows/duo-with-georgia-hazzard-on-bass-at-club-macquarie/
DTSTART;TZID=GMT:20230527T100000
SUMMARY:Duo with Georgia Hazzard on bass at Club Macquarie
DESCRIPTION:Duo with Georgia Hazzard at Club Mac\, Argenton 8-11pm
LOCATION:Club Macquarie\, Argenton
END:VEVENT
END:VCALENDAR