BEGIN:VCALENDAR
VERSION:2.0
PRODID:-//AudioTheme 1.6.2
BEGIN:VEVENT
UID:https://gregbryce.com.au/?post_type=audiotheme_gig&#038;p=2558
URL:https://gregbryce.com.au/shows/duo-with-georgia-hazzard-at-the-albion-singleton/
DTSTART;TZID=GMT:20220319T090000
SUMMARY:Duo with Georgia Hazzard at the Albion, Singleton
DESCRIPTION:Duo with Georgia Hazzard on bass at the Albion Hotel\, Singleton from 8-11pm
LOCATION:Albion Hotel\, Singleton
END:VEVENT
END:VCALENDAR