BEGIN:VCALENDAR
VERSION:2.0
PRODID:-//AudioTheme 1.6.2
BEGIN:VEVENT
UID:https://gregbryce.com.au/?post_type=audiotheme_gig&#038;p=3324
URL:https://gregbryce.com.au/shows/duo-with-georgia-hazzard-at-cessnock-leagues-club/
DTSTART;TZID=GMT:20250802T100000
SUMMARY:Duo with Georgia Hazzard at Cessnock Leagues Club
DESCRIPTION:Duo with Georgia Hazzard at Cessnock Leagues 8-11pm
LOCATION:Cessnock Leagues Club
END:VEVENT
END:VCALENDAR