BEGIN:VCALENDAR
VERSION:2.0
PRODID:-//AudioTheme 1.6.2
BEGIN:VEVENT
UID:https://gregbryce.com.au/?post_type=audiotheme_gig&#038;p=2990
URL:https://gregbryce.com.au/shows/duo-with-georgia-hazzard-at-beauford-hotel-mayfield/
DTSTART;TZID=GMT:20240302T090000
SUMMARY:Duo with Georgia Hazzard at Beauford Hotel, Mayfield
DESCRIPTION:Solo at Beauford Hotel\, Mayfield with Georgia Hazzard on bass
LOCATION:Beauford Hotel\, Mayfield
END:VEVENT
END:VCALENDAR