BEGIN:VCALENDAR
VERSION:2.0
PRODID:-//AudioTheme 1.6.2
BEGIN:VEVENT
UID:https://gregbryce.com.au/?post_type=audiotheme_gig&#038;p=2704
URL:https://gregbryce.com.au/shows/duo-with-bailey-graeber-on-drums-at-bateau-bay-hotel/
DTSTART;TZID=GMT:20221127T030000
SUMMARY:Duo with Bailey Graeber on drums at Bateau Bay Hotel
DESCRIPTION:Duo with Bailey Graeber on drums at Bateau Bay Hotel 2-5pm
LOCATION:Bateau Bay Hotel
END:VEVENT
END:VCALENDAR