BEGIN:VCALENDAR
VERSION:2.0
PRODID:-//AudioTheme 1.6.2
BEGIN:VEVENT
UID:https://www.gregbryce.com.au/?post_type=audiotheme_gig&#038;p=2354
URL:https://gregbryce.com.au/shows/duo-edgeworth-bowling-club/
DTSTART;TZID=GMT:20201030T083000
SUMMARY:Duo Edgeworth Bowling Club
DESCRIPTION:Duo with Georgia Hazzard on bass at Edgeworth Bowling Club 7.30-10.30pm
LOCATION:Edgeworth Bowling Club
END:VEVENT
END:VCALENDAR