BEGIN:VCALENDAR
VERSION:2.0
PRODID:-//AudioTheme 1.6.2
BEGIN:VEVENT
UID:https://www.gregbryce.com.au/?post_type=audiotheme_gig&#038;p=2371
URL:https://gregbryce.com.au/shows/duo-at-sunken-monkey-erina-2/
DTSTART;TZID=GMT:20201120T090000
SUMMARY:Duo at Sunken Monkey, Erina
DESCRIPTION:Duo at Sunken Monkey\, Erina from 6-11pm
LOCATION:Sunken Monkey\, Erina
END:VEVENT
END:VCALENDAR