BEGIN:VCALENDAR
VERSION:2.0
PRODID:-//AudioTheme 1.6.2
BEGIN:VEVENT
UID:https://gregbryce.com.au/?post_type=audiotheme_gig&#038;p=2517
URL:https://gregbryce.com.au/shows/duo-at-jewells-tavern/
DTSTART;TZID=GMT:20210710T100000
SUMMARY:Duo at Jewells Tavern
DESCRIPTION:GB Duo with Georgia Hazzard on bass at Jewells Tavern from 8pm
LOCATION:Jewells Tavern
END:VEVENT
END:VCALENDAR