BEGIN:VCALENDAR
VERSION:2.0
PRODID:-//AudioTheme 1.6.2
BEGIN:VEVENT
UID:https://gregbryce.com.au/?post_type=audiotheme_gig&#038;p=2519
URL:https://gregbryce.com.au/shows/duo-at-east-maitland-bowling-club-2/
DTSTART;TZID=GMT:20210716T093000
SUMMARY:Duo at East Maitland Bowling Club
DESCRIPTION:Solo at East Maitland Bowlo from 7.30-11pm
LOCATION:East Maitland Bowling Club
END:VEVENT
END:VCALENDAR