BEGIN:VCALENDAR
VERSION:2.0
PRODID:-//AudioTheme 1.6.2
BEGIN:VEVENT
UID:https://gregbryce.com.au/?post_type=audiotheme_gig&#038;p=1792
URL:https://gregbryce.com.au/shows/duo-at-duke-of-wellington-2/
DTSTART;TZID=GMT:20171223T093000
SUMMARY:Duo at Duke of Wellington
DESCRIPTION:Bad Bad Things Duo with Len Samperi at Duke from 8.30-11.30pm
LOCATION:Duke of Wellington Hotel\, New Lambton
END:VEVENT
END:VCALENDAR