BEGIN:VCALENDAR
VERSION:2.0
PRODID:-//AudioTheme 1.6.2
BEGIN:VEVENT
UID:https://gregbryce.com.au/?post_type=audiotheme_gig&#038;p=2994
URL:https://gregbryce.com.au/shows/duo-at-club-macquarie-with-jed-browne/
DTSTART;TZID=GMT:20240309T090000
SUMMARY:Duo at Club Macquarie with Jed Browne
DESCRIPTION:Duo with Jed Browne on bass at Club Mac 8-11pm
LOCATION:Club Macquarie\, Argenton
END:VEVENT
END:VCALENDAR