BEGIN:VCALENDAR
VERSION:2.0
PRODID:-//AudioTheme 1.6.2
BEGIN:VEVENT
UID:https://gregbryce.com.au/?post_type=audiotheme_gig&#038;p=2689
URL:https://gregbryce.com.au/shows/bud-bryce-duo-with-ghost-road-at-redhead-bowlo/
DTSTART;TZID=GMT:20221029T033000
SUMMARY:Bud & Bryce Duo with Ghost Road at Redhead Bowlo
DESCRIPTION:Bud & Bryce Duo at Redhead Bowling Club with Ghost Road...our set 2.30-4pm then Ghost Road.
LOCATION:Redhead Bowling Club
END:VEVENT
END:VCALENDAR