BEGIN:VCALENDAR
VERSION:2.0
PRODID:-//AudioTheme 1.6.2
BEGIN:VEVENT
UID:https://gregbryce.com.au/?post_type=audiotheme_gig&#038;p=1480
URL:https://gregbryce.com.au/shows/bad-bad-things-duo-gig-4/
DTSTART;TZID=GMT:20161125T110000
SUMMARY:Bad Bad Things Duo gig
DESCRIPTION:late duo gig with Len at the Kent 10-1.30am
LOCATION:Kent Hotel
END:VEVENT
END:VCALENDAR