BEGIN:VCALENDAR
VERSION:2.0
PRODID:-//AudioTheme 1.6.2
BEGIN:VEVENT
UID:https://gregbryce.com.au/?post_type=audiotheme_gig&#038;p=1463
URL:https://gregbryce.com.au/shows/bad-bad-things-duo-gig-3/
DTSTART;TZID=GMT:20161007T103000
SUMMARY:Bad Bad Things Duo gig
DESCRIPTION:Duo with Len Samperi from 9.30pm-12.30am. Great dance floor!
LOCATION:Wests Leagues\, Marble Bar at New Lambton
END:VEVENT
END:VCALENDAR