BEGIN:VCALENDAR
VERSION:2.0
PRODID:-//AudioTheme 1.6.2
BEGIN:VEVENT
UID:https://gregbryce.com.au/?post_type=audiotheme_gig&#038;p=3017
URL:https://gregbryce.com.au/shows/april-2024/
DTSTART;TZID=GMT:20240401T080000
SUMMARY:April 2024
DESCRIPTION:TBA
END:VEVENT
END:VCALENDAR