BEGIN:VCALENDAR
VERSION:2.0
PRODID:-//AudioTheme 1.6.2
BEGIN:VEVENT
UID:https://gregbryce.com.au/?post_type=audiotheme_gig&#038;p=2934
URL:https://gregbryce.com.au/shows/all-without-a-spacesuit-jam-band-at-bayview-woy-woy/
DTSTART;TZID=GMT:20231007T094500
SUMMARY:All Without a Spacesuit jam band at Bayview, Woy Woy
DESCRIPTION:All Without a Spacesuit at Bayview Hotel\, Woy Woy 8:45-11:45pm
LOCATION:Bayview Hotel\, Woy Woy
END:VEVENT
END:VCALENDAR