BEGIN:VCALENDAR
VERSION:2.0
PRODID:-//AudioTheme 1.6.2
BEGIN:VEVENT
UID:https://gregbryce.com.au/?post_type=audiotheme_gig&#038;p=3001
URL:https://gregbryce.com.au/shows/all-without-a-spacesuit-funky-jam-band-at-the-orana/
DTSTART;TZID=GMT:20240323T090000
SUMMARY:All Without a Spacesuit- funky jam band at The Orana
DESCRIPTION:All Without a Spacesuit at The Orana- funky blues jams and more
LOCATION:The Orana Hotel
END:VEVENT
END:VCALENDAR