BEGIN:VCALENDAR
VERSION:2.0
PRODID:-//AudioTheme 1.6.2
BEGIN:VEVENT
UID:https://gregbryce.com.au/?post_type=audiotheme_gig&#038;p=3320
URL:https://gregbryce.com.au/shows/all-without-a-spacesuit-at-club-lemontree/
DTSTART;TZID=GMT:20250725T093000
SUMMARY:All Without a Spacesuit at Club Lemontree
DESCRIPTION:All Without a Spacesuit jam band at Club Lemontree 7:30-10:30pm
LOCATION:Club Lemon Tree
END:VEVENT
END:VCALENDAR