BEGIN:VCALENDAR
VERSION:2.0
PRODID:-//AudioTheme 1.6.2
BEGIN:VEVENT
UID:https://gregbryce.com.au/?post_type=audiotheme_gig&#038;p=2561
URL:https://gregbryce.com.au/shows/2022-03-26/
DTSTART;TZID=GMT:20220326T070000
SUMMARY:Solo at Regal Inn, Tenambit
DESCRIPTION:Solo at the Regal Inn\, Tenambit from 6-8pm
LOCATION:Regal Inn\, Tenambit
END:VEVENT
END:VCALENDAR