BEGIN:VCALENDAR
VERSION:2.0
PRODID:-//AudioTheme 1.6.2
BEGIN:VEVENT
UID:https://gregbryce.com.au/?post_type=audiotheme_gig&#038;p=1837
URL:https://gregbryce.com.au/shows/2018-02-11/
DTSTART;TZID=GMT:20180311T093000
SUMMARY:Trio at Kent Hotel
DESCRIPTION:Trio with Robbie Long on drums and Justin Ngariki on bass from 8.30-11.30pm
LOCATION:Kent Hotel
END:VEVENT
END:VCALENDAR