BEGIN:VCALENDAR
VERSION:2.0
PRODID:-//AudioTheme 1.6.2
BEGIN:VEVENT
UID:https://gregbryce.com.au/?post_type=audiotheme_gig&#038;p=1533
URL:https://gregbryce.com.au/shows/2017-01-07/
DTSTART;TZID=GMT:20170107T090000
SUMMARY:Solo at Mavericks on Darby
DESCRIPTION:Cool new room on Darby Street. Solo from 8-11pm
LOCATION:Mavericks on Darby
END:VEVENT
END:VCALENDAR